BEGIN:VCALENDAR
VERSION:2.0
PRODID:-//Entente Castries Volley-Ball - ECPv6.15.20//NONSGML v1.0//EN
CALSCALE:GREGORIAN
METHOD:PUBLISH
X-WR-CALNAME:Entente Castries Volley-Ball
X-ORIGINAL-URL:https://vbcccastries.fr
X-WR-CALDESC:Évènements pour Entente Castries Volley-Ball
REFRESH-INTERVAL;VALUE=DURATION:PT1H
X-Robots-Tag:noindex
X-PUBLISHED-TTL:PT1H
BEGIN:VTIMEZONE
TZID:Europe/Paris
BEGIN:DAYLIGHT
TZOFFSETFROM:+0100
TZOFFSETTO:+0200
TZNAME:CEST
DTSTART:20240331T010000
END:DAYLIGHT
BEGIN:STANDARD
TZOFFSETFROM:+0200
TZOFFSETTO:+0100
TZNAME:CET
DTSTART:20241027T010000
END:STANDARD
BEGIN:DAYLIGHT
TZOFFSETFROM:+0100
TZOFFSETTO:+0200
TZNAME:CEST
DTSTART:20250330T010000
END:DAYLIGHT
BEGIN:STANDARD
TZOFFSETFROM:+0200
TZOFFSETTO:+0100
TZNAME:CET
DTSTART:20251026T010000
END:STANDARD
BEGIN:DAYLIGHT
TZOFFSETFROM:+0100
TZOFFSETTO:+0200
TZNAME:CEST
DTSTART:20260329T010000
END:DAYLIGHT
BEGIN:STANDARD
TZOFFSETFROM:+0200
TZOFFSETTO:+0100
TZNAME:CET
DTSTART:20261025T010000
END:STANDARD
END:VTIMEZONE
BEGIN:VEVENT
DTSTART;TZID=Europe/Paris:20250413T150000
DTEND;TZID=Europe/Paris:20250413T183000
DTSTAMP:20260425T014428
CREATED:20250329T142505Z
LAST-MODIFIED:20250329T143246Z
UID:14188-1744556400-1744569000@vbcccastries.fr
SUMMARY:PREMIER LOTO DE L'ECVB
DESCRIPTION:L’Entente Castries volley-ball est heureuse de vous proposer son premier loto! \nParticipez à notre Grand Loto de l’ECVB et tentez de gagner des lots exceptionnels ! \n\nEnvie de passer un moment convivial tout en ayant la chance de remporter des prix incroyables ? Ne manquez pas notre grand loto ! \n\n\nChaque grille vous rapproche d’une victoire\, et d’un lot fantastique ! En plus\, c’est l’occasion de passer un agréable moment avec vos amis\, votre famille\, et de soutenir notre club.\n\nNous comptons sur votre présence pour nous soutenir et faire vivre le Club! \nAlors notez la date pour une soirée pleine de suspense\, de rires et de chances ! \n\nRendez-vous le dimanche 13 avril\, au foyer H.Paulet de Castries pour débuter la partie à 15h. Venez nombreux et tentez votre chance !\n\n \nMerci!
URL:https://vbcccastries.fr/evenement/premier-loto-de-lecvb/
LOCATION:foyer de Castries\, H. PAULET\, avenue de sommières\, Castries\, 34160\, France
CATEGORIES:Evènement
ATTACH;FMTTYPE=image/jpeg:https://vbcccastries.fr/wp-content/uploads/2025/03/loto-v-def.jpeg
END:VEVENT
END:VCALENDAR