BEGIN:VCALENDAR
VERSION:2.0
PRODID:-//Entente Castries Volley-Ball - ECPv6.15.20//NONSGML v1.0//EN
CALSCALE:GREGORIAN
METHOD:PUBLISH
X-ORIGINAL-URL:https://vbcccastries.fr
X-WR-CALDESC:Évènements pour Entente Castries Volley-Ball
REFRESH-INTERVAL;VALUE=DURATION:PT1H
X-Robots-Tag:noindex
X-PUBLISHED-TTL:PT1H
BEGIN:VTIMEZONE
TZID:Europe/Paris
BEGIN:DAYLIGHT
TZOFFSETFROM:+0100
TZOFFSETTO:+0200
TZNAME:CEST
DTSTART:20240331T010000
END:DAYLIGHT
BEGIN:STANDARD
TZOFFSETFROM:+0200
TZOFFSETTO:+0100
TZNAME:CET
DTSTART:20241027T010000
END:STANDARD
BEGIN:DAYLIGHT
TZOFFSETFROM:+0100
TZOFFSETTO:+0200
TZNAME:CEST
DTSTART:20250330T010000
END:DAYLIGHT
BEGIN:STANDARD
TZOFFSETFROM:+0200
TZOFFSETTO:+0100
TZNAME:CET
DTSTART:20251026T010000
END:STANDARD
BEGIN:DAYLIGHT
TZOFFSETFROM:+0100
TZOFFSETTO:+0200
TZNAME:CEST
DTSTART:20260329T010000
END:DAYLIGHT
BEGIN:STANDARD
TZOFFSETFROM:+0200
TZOFFSETTO:+0100
TZNAME:CET
DTSTART:20261025T010000
END:STANDARD
END:VTIMEZONE
BEGIN:VEVENT
DTSTART;TZID=Europe/Paris:20250414T170000
DTEND;TZID=Europe/Paris:20250418T200000
DTSTAMP:20260425T014623
CREATED:20250329T143214Z
LAST-MODIFIED:20250329T143231Z
UID:14219-1744650000-1745006400@vbcccastries.fr
SUMMARY:STAGE DE PERFECTIONNEMENT DE VOLLEY BALL
DESCRIPTION:Bonjour\,\n\n\nTu es passionné par le volley-ball ou tu veux simplement découvrir ce sport dynamique et plein d’énergie ? Nous t’invitons à participer à notre stage de volley-ball !\n\n\nCe stage est l’occasion idéale de développer tes compétences techniques\, d’améliorer ton jeu en équipe et de rencontrer d’autres jeunes sportifs motivés. Que tu sois débutant ou déjà expérimenté\, Kiko t’accompagnera pour progresser dans une ambiance conviviale et stimulante.\n\n\nAu programme : des entraînements adaptés à tous les niveaux et des exercices ludiques pour profiter pleinement de cette expérience.\n\n\nN’attends plus pour t’inscrire et vivre une expérience sportive inoubliable !\n\n\nPublic concerné : M15 et M18 F/G né entre 2007 et 2011\nDate du stage : 14/04 au 18/04 de 17h à 20h\nLieu : Gymnase B.Bertaud de Castries\nInscription : HelloAsso grâce au QR Code présent sur l’affiche\n\n\nViens jouer\, apprendre et t’amuser avec nous ! À très bientôt sur le terrain !\n\n\nL’ECVB
URL:https://vbcccastries.fr/evenement/14219/
CATEGORIES:stage
ATTACH;FMTTYPE=image/jpeg:https://vbcccastries.fr/wp-content/uploads/2025/03/satge-avril-2025.jpg
END:VEVENT
END:VCALENDAR