BEGIN:VCALENDAR
VERSION:2.0
PRODID:-//Entente Castries Volley-Ball - ECPv6.15.20//NONSGML v1.0//EN
CALSCALE:GREGORIAN
METHOD:PUBLISH
X-ORIGINAL-URL:https://vbcccastries.fr
X-WR-CALDESC:Évènements pour Entente Castries Volley-Ball
REFRESH-INTERVAL;VALUE=DURATION:PT1H
X-Robots-Tag:noindex
X-PUBLISHED-TTL:PT1H
BEGIN:VTIMEZONE
TZID:Europe/Paris
BEGIN:DAYLIGHT
TZOFFSETFROM:+0100
TZOFFSETTO:+0200
TZNAME:CEST
DTSTART:20240331T010000
END:DAYLIGHT
BEGIN:STANDARD
TZOFFSETFROM:+0200
TZOFFSETTO:+0100
TZNAME:CET
DTSTART:20241027T010000
END:STANDARD
BEGIN:DAYLIGHT
TZOFFSETFROM:+0100
TZOFFSETTO:+0200
TZNAME:CEST
DTSTART:20250330T010000
END:DAYLIGHT
BEGIN:STANDARD
TZOFFSETFROM:+0200
TZOFFSETTO:+0100
TZNAME:CET
DTSTART:20251026T010000
END:STANDARD
BEGIN:DAYLIGHT
TZOFFSETFROM:+0100
TZOFFSETTO:+0200
TZNAME:CEST
DTSTART:20260329T010000
END:DAYLIGHT
BEGIN:STANDARD
TZOFFSETFROM:+0200
TZOFFSETTO:+0100
TZNAME:CET
DTSTART:20261025T010000
END:STANDARD
END:VTIMEZONE
BEGIN:VEVENT
DTSTART;TZID=Europe/Paris:20250524T140000
DTEND;TZID=Europe/Paris:20250524T233000
DTSTAMP:20260425T003701
CREATED:20250523T170533Z
LAST-MODIFIED:20250523T170533Z
UID:14239-1748095200-1748129400@vbcccastries.fr
SUMMARY:Finales Coupe de l'Hérault 2025 - Poussins - Senior Garçons - Senior filles
DESCRIPTION:L’Entente Castries volley-ball est heureuse de recevoir dans son gymnase de Castries les finales de la coupe de l’Hérault 2025! \nNous vous donnons rendez-vous demain au gymnase Babeth Bertaud à CASTRIES\, pour les finales poussins à 14h et pour les finales Seniors de la Coupe de l’Hérault : \n\n       Masculins à18h30 :   Agde junior / Sète VBC junior\n      Féminines à 20h30 :   Castries loisir / Vendres loisir
URL:https://vbcccastries.fr/evenement/finales-coupe-de-lherault-2025-poussins-senior-garcons-senior-filles/
LOCATION:Gymnase Babeth Bertaud  (Castries)\, Avenue De Sommières\, Castries\, Hérault\, 34160\, France
CATEGORIES:Match
ATTACH;FMTTYPE=image/jpeg:https://vbcccastries.fr/wp-content/uploads/2025/05/7142522.jpg
END:VEVENT
END:VCALENDAR