BEGIN:VCALENDAR
VERSION:2.0
PRODID:-//Entente Castries Volley-Ball - ECPv6.15.20//NONSGML v1.0//EN
CALSCALE:GREGORIAN
METHOD:PUBLISH
X-ORIGINAL-URL:https://vbcccastries.fr
X-WR-CALDESC:Évènements pour Entente Castries Volley-Ball
REFRESH-INTERVAL;VALUE=DURATION:PT1H
X-Robots-Tag:noindex
X-PUBLISHED-TTL:PT1H
BEGIN:VTIMEZONE
TZID:Europe/Paris
BEGIN:DAYLIGHT
TZOFFSETFROM:+0100
TZOFFSETTO:+0200
TZNAME:CEST
DTSTART:20240331T010000
END:DAYLIGHT
BEGIN:STANDARD
TZOFFSETFROM:+0200
TZOFFSETTO:+0100
TZNAME:CET
DTSTART:20241027T010000
END:STANDARD
BEGIN:DAYLIGHT
TZOFFSETFROM:+0100
TZOFFSETTO:+0200
TZNAME:CEST
DTSTART:20250330T010000
END:DAYLIGHT
BEGIN:STANDARD
TZOFFSETFROM:+0200
TZOFFSETTO:+0100
TZNAME:CET
DTSTART:20251026T010000
END:STANDARD
BEGIN:DAYLIGHT
TZOFFSETFROM:+0100
TZOFFSETTO:+0200
TZNAME:CEST
DTSTART:20260329T010000
END:DAYLIGHT
BEGIN:STANDARD
TZOFFSETFROM:+0200
TZOFFSETTO:+0100
TZNAME:CET
DTSTART:20261025T010000
END:STANDARD
END:VTIMEZONE
BEGIN:VEVENT
DTSTART;TZID=Europe/Paris:20251206T140000
DTEND;TZID=Europe/Paris:20251206T183000
DTSTAMP:20260424T161004
CREATED:20251114T190007Z
LAST-MODIFIED:20251114T190016Z
UID:15107-1765029600-1765045800@vbcccastries.fr
SUMMARY:VENTE DE CREPES AU PROFIT DU TELETHON
DESCRIPTION:L’ECVB organise une vente de crêpes au gymnase de Castries lors des matchs de ses équipes de 14h a 18h pour contribuer au soutien du téléthon! \nN’hésitez pas à venir voir les matchs et à participer à cette action caritative tout en vous régalant! Merci
URL:https://vbcccastries.fr/evenement/vente-de-crepes-au-profit-du-telethon/
LOCATION:Gymnase Babeth Bertaud  (Castries)\, Avenue De Sommières\, Castries\, Hérault\, 34160\, France
CATEGORIES:Evènement
END:VEVENT
END:VCALENDAR