BEGIN:VCALENDAR
VERSION:2.0
PRODID:-//Entente Castries Volley-Ball - ECPv6.15.20//NONSGML v1.0//EN
CALSCALE:GREGORIAN
METHOD:PUBLISH
X-WR-CALNAME:Entente Castries Volley-Ball
X-ORIGINAL-URL:https://vbcccastries.fr
X-WR-CALDESC:Évènements pour Entente Castries Volley-Ball
REFRESH-INTERVAL;VALUE=DURATION:PT1H
X-Robots-Tag:noindex
X-PUBLISHED-TTL:PT1H
BEGIN:VTIMEZONE
TZID:Europe/Paris
BEGIN:DAYLIGHT
TZOFFSETFROM:+0100
TZOFFSETTO:+0200
TZNAME:CEST
DTSTART:20240331T010000
END:DAYLIGHT
BEGIN:STANDARD
TZOFFSETFROM:+0200
TZOFFSETTO:+0100
TZNAME:CET
DTSTART:20241027T010000
END:STANDARD
BEGIN:DAYLIGHT
TZOFFSETFROM:+0100
TZOFFSETTO:+0200
TZNAME:CEST
DTSTART:20250330T010000
END:DAYLIGHT
BEGIN:STANDARD
TZOFFSETFROM:+0200
TZOFFSETTO:+0100
TZNAME:CET
DTSTART:20251026T010000
END:STANDARD
BEGIN:DAYLIGHT
TZOFFSETFROM:+0100
TZOFFSETTO:+0200
TZNAME:CEST
DTSTART:20260329T010000
END:DAYLIGHT
BEGIN:STANDARD
TZOFFSETFROM:+0200
TZOFFSETTO:+0100
TZNAME:CET
DTSTART:20261025T010000
END:STANDARD
END:VTIMEZONE
BEGIN:VEVENT
DTSTART;TZID=Europe/Paris:20251213T150000
DTEND;TZID=Europe/Paris:20251213T180000
DTSTAMP:20260423T224245
CREATED:20251114T191642Z
LAST-MODIFIED:20251114T192644Z
UID:15109-1765638000-1765648800@vbcccastries.fr
SUMMARY:TEYR'EN FETES
DESCRIPTION:De 15h à 18h\, l’équipe du conseil d’administration de l’Entente Castries Volley ball participera au gymnase de Teyran à l’animation « Teyr’en fête »! \nUne initiation soft volley sera proposée aux visiteurs tout l’après midi ! Nous vous attendons nombreux! \npersonnes-jouant-au-volleyball-en-plein-air
URL:https://vbcccastries.fr/evenement/teyren-fetes/
LOCATION:Gymnase J.P. BEUZON (Teyran)\, Teyran\, France
CATEGORIES:Evènement
ATTACH;FMTTYPE=image/jpeg:https://vbcccastries.fr/wp-content/uploads/2025/11/4324103.jpg
END:VEVENT
BEGIN:VEVENT
DTSTART;TZID=Europe/Paris:20251213T163000
DTEND;TZID=Europe/Paris:20251213T220000
DTSTAMP:20260423T224245
CREATED:20251114T193502Z
LAST-MODIFIED:20251114T193502Z
UID:15114-1765643400-1765663200@vbcccastries.fr
SUMMARY:URBAN TRAIL FLUO - Course solidaire Téléthon Vendargues
DESCRIPTION:Comme chaque année le club se mobilise avec la ville de Vendargues pour soutenir le Téléthon. \nNous vous invitons à venir participer ou encadrer cet évènement avec nous à partir de 16h30! \nPour plus d’information ou vous inscrire comme bénévole pour l’encadrement merci de nous écrire à volleyball.vbcc.castries@gmail.com
URL:https://vbcccastries.fr/evenement/urban-trail-fluo-course-solidaire-telethon-vendargues/
LOCATION:stade vendargues
CATEGORIES:Evènement
ATTACH;FMTTYPE=image/jpeg:https://vbcccastries.fr/wp-content/uploads/2025/11/prog-trail.jpg
END:VEVENT
END:VCALENDAR