BEGIN:VCALENDAR
VERSION:2.0
PRODID:-//Entente Castries Volley-Ball - ECPv6.15.20//NONSGML v1.0//EN
CALSCALE:GREGORIAN
METHOD:PUBLISH
X-ORIGINAL-URL:https://vbcccastries.fr
X-WR-CALDESC:Évènements pour Entente Castries Volley-Ball
REFRESH-INTERVAL;VALUE=DURATION:PT1H
X-Robots-Tag:noindex
X-PUBLISHED-TTL:PT1H
BEGIN:VTIMEZONE
TZID:Europe/Paris
BEGIN:DAYLIGHT
TZOFFSETFROM:+0100
TZOFFSETTO:+0200
TZNAME:CEST
DTSTART:20250330T010000
END:DAYLIGHT
BEGIN:STANDARD
TZOFFSETFROM:+0200
TZOFFSETTO:+0100
TZNAME:CET
DTSTART:20251026T010000
END:STANDARD
BEGIN:DAYLIGHT
TZOFFSETFROM:+0100
TZOFFSETTO:+0200
TZNAME:CEST
DTSTART:20260329T010000
END:DAYLIGHT
BEGIN:STANDARD
TZOFFSETFROM:+0200
TZOFFSETTO:+0100
TZNAME:CET
DTSTART:20261025T010000
END:STANDARD
BEGIN:DAYLIGHT
TZOFFSETFROM:+0100
TZOFFSETTO:+0200
TZNAME:CEST
DTSTART:20270328T010000
END:DAYLIGHT
BEGIN:STANDARD
TZOFFSETFROM:+0200
TZOFFSETTO:+0100
TZNAME:CET
DTSTART:20271031T010000
END:STANDARD
END:VTIMEZONE
BEGIN:VEVENT
DTSTART;TZID=Europe/Paris:20260215T090000
DTEND;TZID=Europe/Paris:20260215T190000
DTSTAMP:20260423T210047
CREATED:20251114T195239Z
LAST-MODIFIED:20260216T212326Z
UID:15123-1771146000-1771182000@vbcccastries.fr
SUMMARY:TOURNOI 4X4 VE'TEYRAN
DESCRIPTION: 
URL:https://vbcccastries.fr/evenement/tournoi-4x4-veteran-a-teyran/
LOCATION:Gymnase J.P. BEUZON (Teyran)\, Teyran\, France
CATEGORIES:Tournoi
ATTACH;FMTTYPE=image/jpeg:https://vbcccastries.fr/wp-content/uploads/2025/11/1951eaa1-7f22-4141-b67a-ec485e5befb7.jpg
END:VEVENT
END:VCALENDAR