BEGIN:VCALENDAR
VERSION:2.0
PRODID:-//Entente Castries Volley-Ball - ECPv6.15.20//NONSGML v1.0//EN
CALSCALE:GREGORIAN
METHOD:PUBLISH
X-ORIGINAL-URL:https://vbcccastries.fr
X-WR-CALDESC:Évènements pour Entente Castries Volley-Ball
REFRESH-INTERVAL;VALUE=DURATION:PT1H
X-Robots-Tag:noindex
X-PUBLISHED-TTL:PT1H
BEGIN:VTIMEZONE
TZID:Europe/Paris
BEGIN:DAYLIGHT
TZOFFSETFROM:+0100
TZOFFSETTO:+0200
TZNAME:CEST
DTSTART:20250330T010000
END:DAYLIGHT
BEGIN:STANDARD
TZOFFSETFROM:+0200
TZOFFSETTO:+0100
TZNAME:CET
DTSTART:20251026T010000
END:STANDARD
BEGIN:DAYLIGHT
TZOFFSETFROM:+0100
TZOFFSETTO:+0200
TZNAME:CEST
DTSTART:20260329T010000
END:DAYLIGHT
BEGIN:STANDARD
TZOFFSETFROM:+0200
TZOFFSETTO:+0100
TZNAME:CET
DTSTART:20261025T010000
END:STANDARD
BEGIN:DAYLIGHT
TZOFFSETFROM:+0100
TZOFFSETTO:+0200
TZNAME:CEST
DTSTART:20270328T010000
END:DAYLIGHT
BEGIN:STANDARD
TZOFFSETFROM:+0200
TZOFFSETTO:+0100
TZNAME:CET
DTSTART:20271031T010000
END:STANDARD
END:VTIMEZONE
BEGIN:VEVENT
DTSTART;VALUE=DATE:20260220
DTEND;VALUE=DATE:20260305
DTSTAMP:20260423T195419
CREATED:20260220T185609Z
LAST-MODIFIED:20260220T190545Z
UID:15222-1771545600-1772668799@vbcccastries.fr
SUMMARY:PROMOTION EQUIPEMENTS VOLLEY SPORMINEDOR
DESCRIPTION:Notre partenaire SPORMINEDOR vous offre des remises exceptionnelles du 20/02 au 04/03/2026 sur les équipements sports de notre boutique club ECVB! \nFoncez\, c’est le moment de vous équiper! Cliquez ici et accéder à la boutique pour faire vos achats: ECVB Castries
URL:https://vbcccastries.fr/evenement/promotion-equipements-volley-sporminedor/
CATEGORIES:Evènement
ATTACH;FMTTYPE=image/jpeg:https://vbcccastries.fr/wp-content/uploads/2026/02/IMG_2046.jpg
END:VEVENT
END:VCALENDAR