BEGIN:VCALENDAR
VERSION:2.0
PRODID:-//Entente Castries Volley-Ball - ECPv6.15.20//NONSGML v1.0//EN
CALSCALE:GREGORIAN
METHOD:PUBLISH
X-WR-CALNAME:Entente Castries Volley-Ball
X-ORIGINAL-URL:https://vbcccastries.fr
X-WR-CALDESC:Évènements pour Entente Castries Volley-Ball
REFRESH-INTERVAL;VALUE=DURATION:PT1H
X-Robots-Tag:noindex
X-PUBLISHED-TTL:PT1H
BEGIN:VTIMEZONE
TZID:Europe/Paris
BEGIN:DAYLIGHT
TZOFFSETFROM:+0100
TZOFFSETTO:+0200
TZNAME:CEST
DTSTART:20250330T010000
END:DAYLIGHT
BEGIN:STANDARD
TZOFFSETFROM:+0200
TZOFFSETTO:+0100
TZNAME:CET
DTSTART:20251026T010000
END:STANDARD
BEGIN:DAYLIGHT
TZOFFSETFROM:+0100
TZOFFSETTO:+0200
TZNAME:CEST
DTSTART:20260329T010000
END:DAYLIGHT
BEGIN:STANDARD
TZOFFSETFROM:+0200
TZOFFSETTO:+0100
TZNAME:CET
DTSTART:20261025T010000
END:STANDARD
BEGIN:DAYLIGHT
TZOFFSETFROM:+0100
TZOFFSETTO:+0200
TZNAME:CEST
DTSTART:20270328T010000
END:DAYLIGHT
BEGIN:STANDARD
TZOFFSETFROM:+0200
TZOFFSETTO:+0100
TZNAME:CET
DTSTART:20271031T010000
END:STANDARD
END:VTIMEZONE
BEGIN:VEVENT
DTSTART;VALUE=DATE:20260626
DTEND;VALUE=DATE:20260627
DTSTAMP:20260425T045237
CREATED:20251114T201724Z
LAST-MODIFIED:20251114T201724Z
UID:15133-1782432000-1782518399@vbcccastries.fr
SUMMARY:ASSEMBLEE GENERALE DE L ENTENTE CASTRIES VOLLEY BALL
DESCRIPTION:« Informations à venir… comme les décisions d’une AG\, ça arrive (presque) à l’heure ! \nEn attendant\, vous pouvez : \n\nFaire des pronostics sur la durée des débats (le record est à 3h pour un point ‘divers’).\nVous entraîner à hocher la tête avec enthousiasme\, même si vous n’avez rien compris.\nOu relire l’ordre du jour… pour la 3e fois.\n\nPromis\, on vous donne les infos avant que le café ne refroidisse ! ☕😄 »
URL:https://vbcccastries.fr/evenement/assemblee-generale-de-l-entente-castries-volley-ball/
CATEGORIES:Evènement
ATTACH;FMTTYPE=image/jpeg:https://vbcccastries.fr/wp-content/uploads/2025/11/convention-1410870_1280.jpg
END:VEVENT
END:VCALENDAR