BEGIN:VCALENDAR
VERSION:2.0
PRODID:-//Entente Castries Volley-Ball - ECPv6.15.20//NONSGML v1.0//EN
CALSCALE:GREGORIAN
METHOD:PUBLISH
X-WR-CALNAME:Entente Castries Volley-Ball
X-ORIGINAL-URL:https://vbcccastries.fr
X-WR-CALDESC:Évènements pour Entente Castries Volley-Ball
REFRESH-INTERVAL;VALUE=DURATION:PT1H
X-Robots-Tag:noindex
X-PUBLISHED-TTL:PT1H
BEGIN:VTIMEZONE
TZID:Europe/Paris
BEGIN:DAYLIGHT
TZOFFSETFROM:+0100
TZOFFSETTO:+0200
TZNAME:CEST
DTSTART:20250330T010000
END:DAYLIGHT
BEGIN:STANDARD
TZOFFSETFROM:+0200
TZOFFSETTO:+0100
TZNAME:CET
DTSTART:20251026T010000
END:STANDARD
BEGIN:DAYLIGHT
TZOFFSETFROM:+0100
TZOFFSETTO:+0200
TZNAME:CEST
DTSTART:20260329T010000
END:DAYLIGHT
BEGIN:STANDARD
TZOFFSETFROM:+0200
TZOFFSETTO:+0100
TZNAME:CET
DTSTART:20261025T010000
END:STANDARD
BEGIN:DAYLIGHT
TZOFFSETFROM:+0100
TZOFFSETTO:+0200
TZNAME:CEST
DTSTART:20270328T010000
END:DAYLIGHT
BEGIN:STANDARD
TZOFFSETFROM:+0200
TZOFFSETTO:+0100
TZNAME:CET
DTSTART:20271031T010000
END:STANDARD
END:VTIMEZONE
BEGIN:VEVENT
DTSTART;TZID=Europe/Paris:20260110T160000
DTEND;TZID=Europe/Paris:20260110T190000
DTSTAMP:20260423T205305
CREATED:20251114T184651Z
LAST-MODIFIED:20260106T164135Z
UID:15104-1768060800-1768071600@vbcccastries.fr
SUMMARY:GALETTE DES ROIS
DESCRIPTION:LE CLUB PARTAGERA LA GALETTE DES ROIS AVEC LES MEMBRES DU CLUB A L’OCCASION DE CET APRES MIDI DE MATCHS. RENDEZ VOUS AU GYMNASE DE CASTRIES  A PARTIR DE 16H! \n 
URL:https://vbcccastries.fr/evenement/galette-des-rois/
LOCATION:Gymnase Babeth Bertaud  (Castries)\, Avenue De Sommières\, Castries\, Hérault\, 34160\, France
CATEGORIES:Evènement
ATTACH;FMTTYPE=image/jpeg:https://vbcccastries.fr/wp-content/uploads/2025/11/pac-man-epiphany-dessert-fait-maison-scaled.jpg
END:VEVENT
BEGIN:VEVENT
DTSTART;TZID=Europe/Paris:20260118T150000
DTEND;TZID=Europe/Paris:20260118T190000
DTSTAMP:20260423T205305
CREATED:20251114T194801Z
LAST-MODIFIED:20260106T170710Z
UID:15118-1768748400-1768762800@vbcccastries.fr
SUMMARY:LOTO DE L'ENTENTE CASTRIES VOLLEY A TEYRAN
DESCRIPTION:🎉 PREMIER GRAND LOTO DE LA SAISON DE L’ENTENTE CASTRIES VOLLEY-BALL ! 🎉📅 18/01/2026📍 [Salle des fêtes de Teyran]🕖 Ouverture des portes : 14H30 \n \nChères familles\, amis du club et habitants du coin\, \nL’Entente Castries Volleyball organise son premier grand loto de la saison à Teyran !Un moment convivial\, festif et ouvert à tous\, pour soutenir les projets du club et partager un bon moment ensemble. \n✨ De très beaux lots à gagner !Bons d’achat\, équipements sportifs\, surprises gourmandes… et bien d’autres surprises ! \n🍰 Buvette & petite restauration sur placeAvec gâteaux\, boissons\, friandises et un espace détente pour passer un bon moment en famille. \nPourquoi venir ?✔ Pour passer un moment chaleureux✔ Pour soutenir nos jeunes et nos équipes✔ Pour aider le club à financer ses projets et événements✔ Pour tenter votre chance et repartir les bras chargés de cadeaux ! \n🙏 Votre présence compte vraiment : plus nous serons nombreux\, plus le loto sera un succès ! \n📩 Réservez votre soirée et parlez-en autour de vous !
URL:https://vbcccastries.fr/evenement/loto-de-lentente-castries-volley-a-teyran/
LOCATION:Salle des fêtes de Teyran\, Rue du Stade\, Teyran\, 34820\, France
CATEGORIES:Evènement
ATTACH;FMTTYPE=image/jpeg:https://vbcccastries.fr/wp-content/uploads/2025/11/loto-game-man-met-le-numero-de-the-vue-laterale-scaled.jpg
END:VEVENT
END:VCALENDAR